BEGIN:VCALENDAR
VERSION:2.0
PRODID:-//Sabre//Sabre VObject 4.5.8//EN
CALSCALE:GREGORIAN
BEGIN:VEVENT
UID:sabre-vobject-49dce882-27da-4f68-b4d6-48ee46ea0e36
DTSTAMP:20260422T110427Z
SUMMARY:Don Quijote
DESCRIPTION:https://regioningolstadt.com/don-quijote_id17965
DTSTART;TZID=Europe/Berlin:20220530T200000
DURATION:PT30M
LOCATION:Stadttheater Neuburg\, Ottheinrichplatz\, 86633 Neuburg an der Don
 au
END:VEVENT
END:VCALENDAR
