BEGIN:VCALENDAR
VERSION:2.0
PRODID:-//Sabre//Sabre VObject 4.5.8//EN
CALSCALE:GREGORIAN
BEGIN:VEVENT
UID:sabre-vobject-fa6443cf-441b-4d58-9bed-5d595f6a07cb
DTSTAMP:20260420T161332Z
SUMMARY:Flohmarkt Parkplatz Rewe
DESCRIPTION:https://regioningolstadt.com/flohmarkt-parkplatz-rewe_id17893
DTSTART;TZID=Europe/Berlin:20220424T080000
DURATION:PT30M
LOCATION:REWE Stefan Guggenmos OHG\, Nördliche Grünauer Straße 4\, 86633
  Neuburg an der Donau
END:VEVENT
END:VCALENDAR
