BEGIN:VCALENDAR
VERSION:2.0
PRODID:-//Sabre//Sabre VObject 4.5.8//EN
CALSCALE:GREGORIAN
BEGIN:VEVENT
UID:sabre-vobject-2acfdeaa-7afa-4d2b-99e4-f50d9fc21765
DTSTAMP:20260422T172845Z
SUMMARY:Frühjahrs-Dult auf dem Schrannenplatz
DESCRIPTION:https://regioningolstadt.com/fruehjahrs-dult-auf-dem-schrannenp
 latz_id17891
DTSTART;TZID=Europe/Berlin:20220407T000000
DTEND;TZID=Europe/Berlin:20220410T000000
LOCATION:Schrannenplatz\, Schrannenplatz\, 86633 Neuburg
END:VEVENT
END:VCALENDAR
