BEGIN:VCALENDAR
VERSION:2.0
PRODID:-//Sabre//Sabre VObject 4.5.8//EN
CALSCALE:GREGORIAN
BEGIN:VEVENT
UID:sabre-vobject-6ab638a0-bcbc-41d3-a9e2-a461c38bfca0
DTSTAMP:20260423T054024Z
SUMMARY:Voulez Vous
DESCRIPTION:https://regioningolstadt.com/voulez-vous_id17890
DTSTART;TZID=Europe/Berlin:20220401T200000
DURATION:PT30M
LOCATION:Kolpinghaus \, Adolf-Kolping-Straße 45\, 86633 Neuburg
END:VEVENT
END:VCALENDAR
