BEGIN:VCALENDAR
VERSION:2.0
PRODID:-//Sabre//Sabre VObject 4.5.8//EN
CALSCALE:GREGORIAN
BEGIN:VEVENT
UID:sabre-vobject-74e3ea39-9823-4580-ab7a-63f1d0a2e043
DTSTAMP:20260421T120052Z
SUMMARY:Kunst - Kultur und Ostertage
DESCRIPTION:https://regioningolstadt.com/kunst-kultur-und-ostertage_id17553
DTSTART;TZID=Europe/Berlin:20220416T000000
DTEND;TZID=Europe/Berlin:20220418T000000
LOCATION:Schloss Grünau\, Schloss Grünau\, 86633 Neuburg
END:VEVENT
END:VCALENDAR
