BEGIN:VCALENDAR
VERSION:2.0
PRODID:-//Sabre//Sabre VObject 4.5.8//EN
CALSCALE:GREGORIAN
BEGIN:VEVENT
UID:sabre-vobject-c87ba07c-4a6e-4fe7-b5b0-e4a630c90e56
DTSTAMP:20260423T011055Z
SUMMARY:Flohmarkt am Südpark Neuburg
DESCRIPTION:https://regioningolstadt.com/flohmarkt-am-suedpark-neuburg_id17
 551
DTSTART;TZID=Europe/Berlin:20220403T050000
DTEND;TZID=Europe/Berlin:20220403T120000
LOCATION:Südpark\, Südpark\, 86633 Neuburg
END:VEVENT
END:VCALENDAR
