BEGIN:VCALENDAR
VERSION:2.0
PRODID:-//Sabre//Sabre VObject 4.5.8//EN
CALSCALE:GREGORIAN
BEGIN:VEVENT
UID:sabre-vobject-97b75bab-5e20-412b-9019-f4db782636c9
DTSTAMP:20260423T070933Z
SUMMARY:Friedrich & Weisenhütter
DESCRIPTION:https://regioningolstadt.com/friedrich-weisenhuetter_id17549
DTSTART;TZID=Europe/Berlin:20220401T193000
DURATION:PT30M
LOCATION:Die Drogerie\,  Luitpoldstrasse 180B\,  86633 Neuburg an der Donau
END:VEVENT
END:VCALENDAR
