BEGIN:VCALENDAR
VERSION:2.0
PRODID:-//Sabre//Sabre VObject 4.5.8//EN
CALSCALE:GREGORIAN
BEGIN:VEVENT
UID:sabre-vobject-2d4bce7d-6200-43bb-9374-71946c9b7f44
DTSTAMP:20260424T234641Z
SUMMARY:Wir buttern mit Lagerfeuer und Stockbrot
DESCRIPTION:https://regioningolstadt.com/wir-buttern-mit-lagerfeuer-und-sto
 ckbrot_id17510
DTSTART;TZID=Europe/Berlin:20220124T150000
DTEND;TZID=Europe/Berlin:20220124T170000
LOCATION:Moorhof Karlshuld\, Hauptstraße 25\, 86668 Karlshuld
END:VEVENT
END:VCALENDAR
