BEGIN:VCALENDAR
VERSION:2.0
PRODID:-//Sabre//Sabre VObject 4.5.8//EN
CALSCALE:GREGORIAN
BEGIN:VEVENT
UID:sabre-vobject-28c9bd2c-470f-4b07-a615-3249236395c7
DTSTAMP:20260424T175254Z
SUMMARY:Après Ski Party
DESCRIPTION:https://regioningolstadt.com/apres-ski-party_id17509
DTSTART;TZID=Europe/Berlin:20220129T200000
DURATION:PT30M
LOCATION:Landsteakhaus Remise Koppelbar\, Bayernstraße 16\, 86688 Marxheim
END:VEVENT
END:VCALENDAR
