BEGIN:VCALENDAR
VERSION:2.0
PRODID:-//Sabre//Sabre VObject 4.5.8//EN
CALSCALE:GREGORIAN
BEGIN:VEVENT
UID:sabre-vobject-c1afc05d-bc04-4523-ac0b-deaa8ea7fc63
DTSTAMP:20260422T162007Z
SUMMARY:A-Zu-Bi!
DESCRIPTION:https://regioningolstadt.com/a-zu-bi_id17464
DTSTART;TZID=Europe/Berlin:20251011T090000
DTEND;TZID=Europe/Berlin:20251011T140000
LOCATION:86633 Neuburg an der Donau\, Parkhalle Neuburg\, Richard-Wagner-St
 raße 8\, 86633 Neuburg an der Donau
END:VEVENT
END:VCALENDAR
