BEGIN:VCALENDAR
VERSION:2.0
PRODID:-//Sabre//Sabre VObject 4.5.8//EN
CALSCALE:GREGORIAN
BEGIN:VEVENT
UID:sabre-vobject-4f39ab23-af52-4f4a-a7c9-3202bbd7e4a2
DTSTAMP:20260423T083939Z
SUMMARY:Neuburger Töpfermarkt
DESCRIPTION:https://regioningolstadt.com/neuburger-toepfermarkt_id17463
DTSTART;TZID=Europe/Berlin:20250920T000000
DTEND;TZID=Europe/Berlin:20250921T000000
LOCATION:Neuburg an der Donau\, Obere Altstadt\, fürstlicher Marstall
END:VEVENT
END:VCALENDAR
