BEGIN:VCALENDAR
VERSION:2.0
PRODID:-//Sabre//Sabre VObject 4.5.8//EN
CALSCALE:GREGORIAN
BEGIN:VEVENT
UID:sabre-vobject-6276273c-a91b-4c00-83dd-1bd7f008a15e
DTSTAMP:20260424T131636Z
SUMMARY:Freundschaft
DESCRIPTION:https://regioningolstadt.com/freundschaft_id17449
DTSTART;TZID=Europe/Berlin:20220224T200000
DURATION:PT30M
LOCATION:Stadttheater Neuburg\, Ottheinrichplatz\, 86633 Neuburg an der Don
 au
END:VEVENT
END:VCALENDAR
