BEGIN:VCALENDAR
VERSION:2.0
PRODID:-//Sabre//Sabre VObject 4.5.8//EN
CALSCALE:GREGORIAN
BEGIN:VEVENT
UID:sabre-vobject-6456f9f9-d15b-4800-a645-0702f2fdcd6f
DTSTAMP:20260424T162225Z
SUMMARY:Die Nibelungen
DESCRIPTION:https://regioningolstadt.com/die-nibelungen_id17448
DTSTART;TZID=Europe/Berlin:20220201T200000
DURATION:PT30M
LOCATION:Stadttheater Neuburg\, Ottheinrichplatz\, 86633 Neuburg an der Don
 au
END:VEVENT
END:VCALENDAR
