BEGIN:VCALENDAR
VERSION:2.0
PRODID:-//Sabre//Sabre VObject 4.5.8//EN
CALSCALE:GREGORIAN
BEGIN:VEVENT
UID:sabre-vobject-3394fb42-bf2b-48d2-a808-587d4ef069b8
DTSTAMP:20260424T192333Z
SUMMARY:Tischlein deck dich
DESCRIPTION:https://regioningolstadt.com/tischlein-deck-dich_id17435
DTSTART;TZID=Europe/Berlin:20220126T150000
DURATION:PT30M
LOCATION:Stadttheater Neuburg\, Ottheinrichplatz\, 86633 Neuburg an der Don
 au
END:VEVENT
END:VCALENDAR
