BEGIN:VCALENDAR
VERSION:2.0
PRODID:-//Sabre//Sabre VObject 4.5.8//EN
CALSCALE:GREGORIAN
BEGIN:VEVENT
UID:sabre-vobject-b5f57509-2853-4571-9347-1bd2fff7f36c
DTSTAMP:20260424T205451Z
SUMMARY:Tischlein deck dich
DESCRIPTION:https://regioningolstadt.com/tischlein-deck-dich_id17434
DTSTART;TZID=Europe/Berlin:20220126T100000
DURATION:PT30M
LOCATION:Stadttheater Neuburg\, Ottheinrichplatz\, 86633 Neuburg an der Don
 au
END:VEVENT
END:VCALENDAR
