BEGIN:VCALENDAR
VERSION:2.0
PRODID:-//Sabre//Sabre VObject 4.5.8//EN
CALSCALE:GREGORIAN
BEGIN:VEVENT
UID:sabre-vobject-4c85bf72-27ed-4e4f-a9d9-90a8aa1fedc3
DTSTAMP:20260425T013415Z
SUMMARY:Der Räuber Hotzenplotz
DESCRIPTION:https://regioningolstadt.com/der-raeuber-hotzenplotz_id17384
DTSTART;TZID=Europe/Berlin:20220120T150000
DURATION:PT30M
LOCATION:Stadttheater Neuburg\, Ottheinrichplatz\, 86633 Neuburg an der Don
 au
END:VEVENT
END:VCALENDAR
