BEGIN:VCALENDAR
VERSION:2.0
PRODID:-//Sabre//Sabre VObject 4.5.8//EN
CALSCALE:GREGORIAN
BEGIN:VEVENT
UID:sabre-vobject-baec0eed-0c15-49ae-81fb-078186e5d234
DTSTAMP:20260425T031148Z
SUMMARY:Ein Sommernachtstraum
DESCRIPTION:https://regioningolstadt.com/ein-sommernachtstraum_id17308
DTSTART;TZID=Europe/Berlin:20220118T200000
DURATION:PT30M
LOCATION:Stadttheater Neuburg\, Ottheinrichplatz\, 86633 Neuburg an der Don
 au
END:VEVENT
END:VCALENDAR
